Workbook
Name ステータスリスト: マスタ!$B$2:$B$8
Name 確度リスト: マスタ!$C$2:$C$4
Name 担当者リスト: マスタ!$A$2:$A$6

Sheet 案件一覧
A1: 案件番号 | B1: 顧客名 | C1: 案件名 | D1: 担当者 | E1: 金額(万円) | F1: 確度 | G1: ステータス | H1: 次のアクション | I1: 期限 | J1: 更新日
A2: A001 | B2: ●株式会社 | C2: システム導入 | D2: 山田 | E2: 500 | F2: A | G2: 提案 | H2: 見積確認 | I2: =TODAY()+11 -> 46300 | J2: =TODAY()-2 -> 46287
A3: A002 | B3: △株式会社 | C3: 業務改善支援 | D3: 佐藤 | E3: 300 | F3: B | G3: 見積提出済み | H3: 先方へ確認 | I3: =TODAY()-3 -> 46286 | J3: =TODAY()-30 -> 46259
A4: A003 | B4: ■工業株式会社 | C4: 基幹システム更新 | D4: 鈴木 | E4: 800 | F4: C | G4: 初回接触 | H4: 社内資料作成 | I4: =TODAY()+16 -> 46305 | J4: =TODAY()-1 -> 46288
A32: 凡例： | B32: 青字＝入力例（サンプル行。ご自身のデータに書き換えてください）
B33: 赤色＝期限超過（本日時点で未対応の案件）
B34: 担当者・ステータス・確度はプルダウンから選択（候補は「マスタ」シートで管理）

Sheet 案件進捗管理
A1: 案件名 | B1: ステータス | C1: 次のアクション | D1: 期限 | E1: 更新日 | F1: 経過日数
A2: =IF(案件一覧!C2="","",案件一覧!C2) -> システム導入 | B2: =IF(案件一覧!G2="","",案件一覧!G2) -> 提案 | C2: =IF(案件一覧!H2="","",案件一覧!H2) -> 見積確認 | D2: =IF(案件一覧!I2="","",案件一覧!I2) -> 46300 | E2: =IF(案件一覧!J2="","",案件一覧!J2) -> 46287 | F2: =IF(E2="","",TODAY()-E2) -> 2
A3: =IF(案件一覧!C3="","",案件一覧!C3) -> 業務改善支援 | B3: =IF(案件一覧!G3="","",案件一覧!G3) -> 見積提出済み | C3: =IF(案件一覧!H3="","",案件一覧!H3) -> 先方へ確認 | D3: =IF(案件一覧!I3="","",案件一覧!I3) -> 46286 | E3: =IF(案件一覧!J3="","",案件一覧!J3) -> 46259 | F3: =IF(E3="","",TODAY()-E3) -> 30
A4: =IF(案件一覧!C4="","",案件一覧!C4) -> 基幹システム更新 | B4: =IF(案件一覧!G4="","",案件一覧!G4) -> 初回接触 | C4: =IF(案件一覧!H4="","",案件一覧!H4) -> 社内資料作成 | D4: =IF(案件一覧!I4="","",案件一覧!I4) -> 46305 | E4: =IF(案件一覧!J4="","",案件一覧!J4) -> 46288 | F4: =IF(E4="","",TODAY()-E4) -> 1
A5: =IF(案件一覧!C5="","",案件一覧!C5) | B5: =IF(案件一覧!G5="","",案件一覧!G5) | C5: =IF(案件一覧!H5="","",案件一覧!H5) | D5: =IF(案件一覧!I5="","",案件一覧!I5) | E5: =IF(案件一覧!J5="","",案件一覧!J5) | F5: =IF(E5="","",TODAY()-E5)
A6: =IF(案件一覧!C6="","",案件一覧!C6) | B6: =IF(案件一覧!G6="","",案件一覧!G6) | C6: =IF(案件一覧!H6="","",案件一覧!H6) | D6: =IF(案件一覧!I6="","",案件一覧!I6) | E6: =IF(案件一覧!J6="","",案件一覧!J6) | F6: =IF(E6="","",TODAY()-E6)
A7: =IF(案件一覧!C7="","",案件一覧!C7) | B7: =IF(案件一覧!G7="","",案件一覧!G7) | C7: =IF(案件一覧!H7="","",案件一覧!H7) | D7: =IF(案件一覧!I7="","",案件一覧!I7) | E7: =IF(案件一覧!J7="","",案件一覧!J7) | F7: =IF(E7="","",TODAY()-E7)
A8: =IF(案件一覧!C8="","",案件一覧!C8) | B8: =IF(案件一覧!G8="","",案件一覧!G8) | C8: =IF(案件一覧!H8="","",案件一覧!H8) | D8: =IF(案件一覧!I8="","",案件一覧!I8) | E8: =IF(案件一覧!J8="","",案件一覧!J8) | F8: =IF(E8="","",TODAY()-E8)
A9: =IF(案件一覧!C9="","",案件一覧!C9) | B9: =IF(案件一覧!G9="","",案件一覧!G9) | C9: =IF(案件一覧!H9="","",案件一覧!H9) | D9: =IF(案件一覧!I9="","",案件一覧!I9) | E9: =IF(案件一覧!J9="","",案件一覧!J9) | F9: =IF(E9="","",TODAY()-E9)
A10: =IF(案件一覧!C10="","",案件一覧!C10) | B10: =IF(案件一覧!G10="","",案件一覧!G10) | C10: =IF(案件一覧!H10="","",案件一覧!H10) | D10: =IF(案件一覧!I10="","",案件一覧!I10) | E10: =IF(案件一覧!J10="","",案件一覧!J10) | F10: =IF(E10="","",TODAY()-E10)
A11: =IF(案件一覧!C11="","",案件一覧!C11) | B11: =IF(案件一覧!G11="","",案件一覧!G11) | C11: =IF(案件一覧!H11="","",案件一覧!H11) | D11: =IF(案件一覧!I11="","",案件一覧!I11) | E11: =IF(案件一覧!J11="","",案件一覧!J11) | F11: =IF(E11="","",TODAY()-E11)
A12: =IF(案件一覧!C12="","",案件一覧!C12) | B12: =IF(案件一覧!G12="","",案件一覧!G12) | C12: =IF(案件一覧!H12="","",案件一覧!H12) | D12: =IF(案件一覧!I12="","",案件一覧!I12) | E12: =IF(案件一覧!J12="","",案件一覧!J12) | F12: =IF(E12="","",TODAY()-E12)
A13: =IF(案件一覧!C13="","",案件一覧!C13) | B13: =IF(案件一覧!G13="","",案件一覧!G13) | C13: =IF(案件一覧!H13="","",案件一覧!H13) | D13: =IF(案件一覧!I13="","",案件一覧!I13) | E13: =IF(案件一覧!J13="","",案件一覧!J13) | F13: =IF(E13="","",TODAY()-E13)
... A30: =IF(案件一覧!C30="","",案件一覧!C30) | B30: =IF(案件一覧!G30="","",案件一覧!G30) | C30: =IF(案件一覧!H30="","",案件一覧!H30) | D30: =IF(案件一覧!I30="","",案件一覧!I30) | E30: =IF(案件一覧!J30="","",案件一覧!J30) | F30: =IF(E30="","",TODAY()-E30)
A32: ※ このシートは「案件一覧」を自動参照しています（二重入力にならないよう、直接入力しないでください）
A33: ※ 黄色＝更新日から14日以上経過（滞留の疑い） 赤字＝期限超過

Sheet 使い方
A1: 案件管理表テンプレートの使い方
A3: ■ シート構成
A4: ・案件一覧 ：案件を1件1行で管理するメインシートです。担当者ごとに分けず、ここに全案件を集約してください。
A5: ・案件進捗管理：ステータス・次のアクション・期限・更新日から、滞留している案件を見つけるためのシートです（案件一覧を自動参照）。
A6: ・マスタ ：担当者名、ステータス、確度の選択肢を管理するシートです。入力規則（ドロップダウン）の元になります。
A8: ■ 入力のしかた
A9: ・青字のセル（1〜3行目）はサンプル（入力例）です。ご自身のデータに書き換えてご利用ください。
A10: ・担当者、ステータス、確度の各列はプルダウンから選択します。選択肢を追加・変更したい場合は「マスタ」シートを編集してください。
A11: ・「案件進捗管理」シートと「経過日数」は数式で自動計算されます。数式が入っている列・シートには直接入力しないでください。
A12: ・担当者ごとにシートやファイルを分けないことが、この表の一番のポイントです。担当者別に見たいときは、フィルター機能をお使いください。
A14: ■ 移行・拡張の目安
A15: ・シートが増える、数式エラーが放置される、ファイル名に「最新」「最終」が付くようになったら、案件管理ツールへの移行を検討するタイミングです。

Sheet マスタ
A1: 担当者 | B1: ステータス | C1: 確度
A2: 山田 | B2: 初回接触 | C2: A
A3: 佐藤 | B3: 商談 | C3: B
A4: 鈴木 | B4: 提案 | C4: C
A5: 高橋 | B5: 見積提出済み
A6: 田中 | B6: 最終調整
B7: 受注
B8: 失注
A10: ※ 選択肢を追加・変更する場合はこの表を編集してください。
